BEGIN:VCALENDAR
VERSION:2.0
PRODID:TU Chemnitz
METHOD:PUBLISH
X-WR-CALNAME:Veranstaltungen der TU Chemnitz
X-WR-TIMEZONE:Europe/Berlin
BEGIN:VEVENT
CLASS:PUBLIC
DTSTART;TZID="Europe/Berlin":20140514T160000
DTEND;TZID="Europe/Berlin":20140514T173000
LOCATION:Reichenhainer Str. 90\, Chemnitz (Zentr. Hörsaal- und Seminargebäude)
SUMMARY:Physikalisches Kolloquium (Fakultät für Naturwissenschaften\, Institut für Physik)
DESCRIPTION:Thema: "Surface Science of Complex Molecular Systems"\nProf. Dr. Hans-Peter Steinrück (Universität Erlangen-Nürnberg)\nProf. Dr. Michael Hietschold
ORGANIZER:MAILTO:angelika.hiller@physik.tu-chemnitz.de
UID:16086@www.tu-chemnitz.de
CREATED:20140507T103300Z
DTSTAMP:20210802T190616Z
END:VEVENT
END:VCALENDAR
