BEGIN:VCALENDAR
VERSION:2.0
PRODID:TU Chemnitz
METHOD:PUBLISH
X-WR-CALNAME:Veranstaltungen der TU Chemnitz
X-WR-TIMEZONE:Europe/Berlin
BEGIN:VEVENT
CLASS:PUBLIC
DTSTART;TZID="Europe/Berlin":20010502T170000
DTEND;TZID="Europe/Berlin":20010502T183000
LOCATION:Uni-Teil 3: Reichenhainer Str. 70\, Chemnitz (Zentr. Hörsaal- und Seminargebäude)
SUMMARY:Chemische Nanolithografie (Fakultät für Naturwissenschaften\, Institut für Physik)
DESCRIPTION:Physikalisches Kolloquium - Gemeinsames Kolloquium mit dem Institut für Chemie\nDr. Armin Gölzhäuser vertritt Prof. Dr. Michael Grunze\, Lehrstuhl für Angewandte Physikalische Chemie\, Universität Heidelberg\nProf. Dr. Ch. von Borczyskowski\, Tel. 3035
ORGANIZER:MAILTO:sumar@hrz.tu-chemnitz.de
UID:1608@www.tu-chemnitz.de
CREATED:20010402T133100Z
DTSTAMP:20210802T202746Z
END:VEVENT
END:VCALENDAR
