BEGIN:VCALENDAR
VERSION:2.0
PRODID:TU Chemnitz
METHOD:PUBLISH
X-WR-CALNAME:Veranstaltungen der TU Chemnitz
X-WR-TIMEZONE:Europe/Berlin
BEGIN:VEVENT
CLASS:PUBLIC
DTSTART;TZID="Europe/Berlin":20140509T130000
DTEND;TZID="Europe/Berlin":20140509T190000
LOCATION:Reichenhainer Str. 70\, Chemnitz (Rühlmann-Bau)
SUMMARY:Drei-Städte-Seminar (Chemnitz\, Dresden\, Leipzig) (Fakultät für Mathematik)
DESCRIPTION:Das Drei-Städte-Seminar wird von Mathematikern der Universitäten Chemnitz\, Dresden und Leipzig organisiert.
ORGANIZER:MAILTO:margit.matt@mathematik.tu-chemnitz.de
UID:16063@www.tu-chemnitz.de
CREATED:20140424T111000Z
DTSTAMP:20210802T190615Z
END:VEVENT
END:VCALENDAR
