BEGIN:VCALENDAR
VERSION:2.0
PRODID:TU Chemnitz
METHOD:PUBLISH
X-WR-CALNAME:Veranstaltungen der TU Chemnitz
X-WR-TIMEZONE:Europe/Berlin
BEGIN:VEVENT
CLASS:PUBLIC
DTSTART;TZID="Europe/Berlin":20140429T203000
DTEND;TZID="Europe/Berlin":20140430T010000
LOCATION:Str. der Nationen 62\, Chemnitz (Böttcher-Bau)
SUMMARY:Faces of Jazz 52 - Konzert und JAM-Session mit der Band "PLOT" (L) (Club der Kulturen)
DESCRIPTION:Konzert mit der Leipziger Band "Plot" - mit Eigenkompositionen voll Kraft und Schönheit\, irgendwo zwischen Neuer Musik\, Trip Hop und Tom Waits - www.trio-plot.com - zur anschließenden JAM-Session Instrumente nicht vergessen.\nBand \nwww.tu-chemnitz.de/stud/club/kulturen/wordpress/
ORGANIZER:MAILTO:thilo.bocklisch@etit.tu-chemnitz.de
UID:16059@www.tu-chemnitz.de
CREATED:20140418T230300Z
DTSTAMP:20210802T190705Z
END:VEVENT
END:VCALENDAR
