BEGIN:VCALENDAR
VERSION:2.0
PRODID:TU Chemnitz
METHOD:PUBLISH
X-WR-CALNAME:Veranstaltungen der TU Chemnitz
X-WR-TIMEZONE:Europe/Berlin
BEGIN:VEVENT
CLASS:PUBLIC
DTSTART;TZID="Europe/Berlin":20140422T190000
DTEND;TZID="Europe/Berlin":20140422T203000
LOCATION:Reichenhainer Str. 70\, Chemnitz (Weinhold-Bau)
SUMMARY:InfoAbend jungblick consulting e.V. (Studentische Unternehmensberatung jungblick consulting e.V.)
DESCRIPTION:Studierende\, die sich neuen Herausforderungen stellen möchten\, können den jungblick consulting e.V. und seine Mitglieder beim Interessentenabend am 22. April 2014 um 19 Uhr im Weinhold-Bau\, Reichenhainer Straße 70\, Raum W146\, kennen lernen.\nlinda.galle@jungblick.de
ORGANIZER:MAILTO:alexander.krauss@wirtschaft.tu-chemnitz.de
UID:16048@www.tu-chemnitz.de
CREATED:20140415T160900Z
DTSTAMP:20210802T190717Z
END:VEVENT
END:VCALENDAR
