BEGIN:VCALENDAR
VERSION:2.0
PRODID:TU Chemnitz
METHOD:PUBLISH
X-WR-CALNAME:Veranstaltungen der TU Chemnitz
X-WR-TIMEZONE:Europe/Berlin
BEGIN:VEVENT
CLASS:PUBLIC
DTSTART;TZID="Europe/Berlin":20140619T160000
DTEND;TZID="Europe/Berlin":20140619T173000
LOCATION:Str. der Nationen 62\, Chemnitz (Böttcher-Bau)
SUMMARY:GDCh-Vortrag: "Neues zur Chemie perchlorierter Silane - Plasmachemie und unerwartete Reaktionen aus quantenchemischer Sicht" (Fakultät für Naturwissenschaften)
DESCRIPTION:Prof. Dr. Max C. Holthausen\, Institut für Anorganische und Analytische Chemie\, Goethe-Universität Frankfurt am \nProf. Dr. Heinrich Lang\, Tel. 21210\, heinrich.lang@chemie.tu-chemnitz.de
ORGANIZER:MAILTO:natalia.rueffer@chemie.tu-chemnitz.de
UID:16046@www.tu-chemnitz.de
CREATED:20140415T130100Z
DTSTAMP:20210802T190503Z
END:VEVENT
END:VCALENDAR
