BEGIN:VCALENDAR
VERSION:2.0
PRODID:TU Chemnitz
METHOD:PUBLISH
X-WR-CALNAME:Veranstaltungen der TU Chemnitz
X-WR-TIMEZONE:Europe/Berlin
BEGIN:VEVENT
CLASS:PUBLIC
DTSTART;TZID="Europe/Berlin":20140413T103000
DTEND;TZID="Europe/Berlin":20140413T120000
LOCATION:Reichenhainer Str. 90\, Chemnitz (Zentr. Hörsaal- und Seminargebäude)
SUMMARY:In 80 Sprotarten durch Chemnitz (TU Chemnitz\, Kinder-Uni Chemnitz)
DESCRIPTION:Es geht auf die wohl sportlichste Busreise des Jahres durch Chemnitz mit viel Bewegung\, Teamgeist\, Fair Play und Spaß. "In 80 Sportarten durch Chemnitz" - eine Vorlesung über Bewegung\, Zusammengehörigkeit und Werte im Sport.\nSportjugend Chemnitz\nBrita Sting\, kinderuni@tu-chemnitz.de
ORGANIZER:MAILTO:brita.stingl@verwaltung.tu-chemnitz.de
UID:16039@www.tu-chemnitz.de
CREATED:20140411T102000Z
DTSTAMP:20210802T190704Z
END:VEVENT
END:VCALENDAR
