BEGIN:VCALENDAR
VERSION:2.0
PRODID:TU Chemnitz
METHOD:PUBLISH
X-WR-CALNAME:Veranstaltungen der TU Chemnitz
X-WR-TIMEZONE:Europe/Berlin
BEGIN:VEVENT
CLASS:PUBLIC
DTSTART;VALUE=DATE:20140808
DTEND;VALUE=DATE:20140809
LOCATION:Reichenhainer Str. 70\, Chemnitz (Rühlmann-Bau)
SUMMARY:Excel-Basics für Studium und Beruf (Career Service TU Chemnitz)
DESCRIPTION:In diesem Workshop lernst du anhand anschaulicher Beispiele und praxisbezogener Aufgaben die grundlegenden Funktionen von Excel. Anmeldung erforderlich!\nKatarina Weiß\nCareer Service\, Tel.: 0371 - 531 19930\, career-service@tu-chemnitz.de
ORGANIZER:MAILTO:anke.bartsch@verwaltung.tu-chemnitz.de
UID:16023@www.tu-chemnitz.de
CREATED:20140409T110200Z
DTSTAMP:20210802T190303Z
END:VEVENT
END:VCALENDAR
