BEGIN:VCALENDAR
VERSION:2.0
PRODID:TU Chemnitz
METHOD:PUBLISH
X-WR-CALNAME:Veranstaltungen der TU Chemnitz
X-WR-TIMEZONE:Europe/Berlin
BEGIN:VEVENT
CLASS:PUBLIC
DTSTART;VALUE=DATE:20140704
DTEND;VALUE=DATE:20140705
LOCATION:Pegasus-Center\, Chemnitz
SUMMARY:Assessment Center Training (Career Service TU Chemnitz)
DESCRIPTION:Im Workshop durchläufst du typische Assessment Center-Situationen und erhältst Feedback sowie Tipps für deine erfolgreiche Selbstpräsentation im Auswahlverfahren. Anmeldung erforderlich!\nDr. Christian Genz\nCareer Service\, Tel.: 0371 - 531 19930\, career-service@tu-chemnitz.de
ORGANIZER:MAILTO:anke.bartsch@verwaltung.tu-chemnitz.de
UID:16021@www.tu-chemnitz.de
CREATED:20140409T105500Z
DTSTAMP:20210802T190402Z
END:VEVENT
END:VCALENDAR
