BEGIN:VCALENDAR
VERSION:2.0
PRODID:TU Chemnitz
METHOD:PUBLISH
X-WR-CALNAME:Veranstaltungen der TU Chemnitz
X-WR-TIMEZONE:Europe/Berlin
BEGIN:VEVENT
CLASS:PUBLIC
DTSTART;VALUE=DATE:20140425
DTEND;VALUE=DATE:20140509
LOCATION:Reichenhainer Str. 70\, Chemnitz (Rühlmann-Bau)
SUMMARY:Grundkurs wissenschaftliches Arbeiten für internationale Studierende (TU Chemnitz)
DESCRIPTION:Der Kurs geht die wesentlichen Grundlagen des wissenschaftlichen Arbeitens an vielen praktischen Übungen durch. So werden wir Exzerpieren\, das Formulieren von Texten sowie das Angeben von Literatur im Text und im Literaturverzeichnis üben.\nStephanie Zschill\nstephanie.zschill@s2009.tu-chemnitz.de
ORGANIZER:MAILTO:sara.rodefeld@phil.tu-chemnitz.de
UID:16020@www.tu-chemnitz.de
CREATED:20140409T105500Z
DTSTAMP:20210802T190705Z
END:VEVENT
END:VCALENDAR
