BEGIN:VCALENDAR
VERSION:2.0
PRODID:TU Chemnitz
METHOD:PUBLISH
X-WR-CALNAME:Veranstaltungen der TU Chemnitz
X-WR-TIMEZONE:Europe/Berlin
BEGIN:VEVENT
CLASS:PUBLIC
DTSTART;VALUE=DATE:20140613
DTEND;VALUE=DATE:20140620
LOCATION:Str. der Nationen 62\, Chemnitz (Böttcher-Bau)
SUMMARY:Wissenschaftliches Arbeiten (Philosophische Fakultät)
DESCRIPTION:Im Kurs sollen verschiedene Formen des wissenschaftlichen Arbeitens vorgestellt und Hilfestellungen beim Verfassen von Hausarbeiten gegeben werden.\nSara Rodefeld\nsara.rodefeld@phil.tu-chemnitz.de
ORGANIZER:MAILTO:sara.rodefeld@phil.tu-chemnitz.de
UID:16018@www.tu-chemnitz.de
CREATED:20140409T105200Z
DTSTAMP:20210802T190500Z
END:VEVENT
END:VCALENDAR
