BEGIN:VCALENDAR
VERSION:2.0
PRODID:TU Chemnitz
METHOD:PUBLISH
X-WR-CALNAME:Veranstaltungen der TU Chemnitz
X-WR-TIMEZONE:Europe/Berlin
BEGIN:VEVENT
CLASS:PUBLIC
DTSTART;TZID="Europe/Berlin":20140701T140000
DTEND;TZID="Europe/Berlin":20140701T160000
LOCATION:Dresden
SUMMARY:Exkursion zur AMTC Advanced Mask Technology Center GmbH & Co. KG (TU Chemnitz\, Career Service)
DESCRIPTION:Dieses Exkursionsangebot ist besonders geeignet für Studierende folgender Fakultäten: Naturwissenschaften\, Elektro- und Informationstechnik\, Informatik. - Excursion language: English.\nCareer Service\, 0371 - 531 19930\, career-service@tu-chemnitz.de
ORGANIZER:MAILTO:marc.stoll@hrz.tu-chemnitz.de
UID:16004@www.tu-chemnitz.de
CREATED:20140408T215100Z
DTSTAMP:20210802T190407Z
END:VEVENT
END:VCALENDAR
