BEGIN:VCALENDAR
VERSION:2.0
PRODID:TU Chemnitz
METHOD:PUBLISH
X-WR-CALNAME:Veranstaltungen der TU Chemnitz
X-WR-TIMEZONE:Europe/Berlin
BEGIN:VEVENT
CLASS:PUBLIC
DTSTART;TZID="Europe/Berlin":20140605T140000
DTEND;TZID="Europe/Berlin":20140605T160000
LOCATION:Hartmannsdorf
SUMMARY:Exkursion zur KOMSA Kommunikation Sachsen AG (TU Chemnitz\, Career Service)
DESCRIPTION:Dieses Exkursionsangebot ist besonders geeignet für Studierende folgender Fakultäten: Human- und Sozialwissenschaften\, Philosophische Fakultät\, Wirtschaftswissenschaften\, Informatik.\nCareer Service\, 0371 - 531 19930\, career-service@tu-chemnitz.de
ORGANIZER:MAILTO:marc.stoll@hrz.tu-chemnitz.de
UID:16000@www.tu-chemnitz.de
CREATED:20140408T214300Z
DTSTAMP:20210802T190508Z
END:VEVENT
END:VCALENDAR
