BEGIN:VCALENDAR
VERSION:2.0
PRODID:TU Chemnitz
METHOD:PUBLISH
X-WR-CALNAME:Veranstaltungen der TU Chemnitz
X-WR-TIMEZONE:Europe/Berlin
BEGIN:VEVENT
CLASS:PUBLIC
DTSTART;TZID="Europe/Berlin":19981029T193000
DTEND;TZID="Europe/Berlin":19981029T193000
LOCATION:Agricola-Buchhandlung (am Markt\, hinter dem Rathaus)
SUMMARY:Lesung mit Wolfgang Eckert (Philosophische Fakultät\, FG Germanistik\, Deutsche Literatur des 20. Jahrhunderts/Komparatistik)
DESCRIPTION:
ORGANIZER:MAILTO:sul@hrz.tu-chemnitz.de
UID:160@www.tu-chemnitz.de
CREATED:19981027T104900Z
DTSTAMP:20210802T203557Z
END:VEVENT
END:VCALENDAR
