BEGIN:VCALENDAR
VERSION:2.0
PRODID:TU Chemnitz
METHOD:PUBLISH
X-WR-CALNAME:Veranstaltungen der TU Chemnitz
X-WR-TIMEZONE:Europe/Berlin
BEGIN:VEVENT
CLASS:PUBLIC
DTSTART;TZID="Europe/Berlin":20140508T140000
DTEND;TZID="Europe/Berlin":20140508T160000
LOCATION:Chemnitz
SUMMARY:Exkursion zur Bildungs-Werkstatt Chemnitz gGmbH (TU Chemnitz\, Career Service)
DESCRIPTION:Dieses Exkursionsangebot ist besonders geeignet für Studierende der Philosophischen Fakultät (Schwerpunkt: Institut für Pädagogik) und natürlich alle\, die einmal bei einem Bildungsträger "hinter die Kulissen" schauen wollen.\nCareer Service\, 0371 - 531 19930\, career-service@tu-chemnitz.de
ORGANIZER:MAILTO:marc.stoll@hrz.tu-chemnitz.de
UID:15997@www.tu-chemnitz.de
CREATED:20140408T213900Z
DTSTAMP:20210802T190616Z
END:VEVENT
END:VCALENDAR
