BEGIN:VCALENDAR
VERSION:2.0
PRODID:TU Chemnitz
METHOD:PUBLISH
X-WR-CALNAME:Veranstaltungen der TU Chemnitz
X-WR-TIMEZONE:Europe/Berlin
BEGIN:VEVENT
CLASS:PUBLIC
DTSTART;TZID="Europe/Berlin":20140711T090000
DTEND;TZID="Europe/Berlin":20140711T160000
LOCATION:Reichenhainer Str. 90\, Chemnitz (Zentr. Hörsaal- und Seminargebäude)
SUMMARY:Bewerbungstraining präsentiert von: IPN Brainpower GmbH & Co. KG (Career Service TU Chemnitz)
DESCRIPTION:Inhalte im Workshop: Stellenanzeigen richtig interpretieren\, Bewerbungsunterlagen richtig aufbauen\, Anschreiben und Lebenslauf gut formulieren und strukturieren. Mit vielen praktischen Übungen. Anmeldung erforderlich!\nVictoria Schubert\nCareer Service\, Tel.: 0371 - 531 19930\, career-service@tu-chemnitz.de
ORGANIZER:MAILTO:anke.bartsch@verwaltung.tu-chemnitz.de
UID:15989@www.tu-chemnitz.de
CREATED:20140408T100200Z
DTSTAMP:20210802T190400Z
END:VEVENT
END:VCALENDAR
