BEGIN:VCALENDAR
VERSION:2.0
PRODID:TU Chemnitz
METHOD:PUBLISH
X-WR-CALNAME:Veranstaltungen der TU Chemnitz
X-WR-TIMEZONE:Europe/Berlin
BEGIN:VEVENT
CLASS:PUBLIC
DTSTART;VALUE=DATE:20140523
DTEND;VALUE=DATE:20140524
LOCATION:Reichenhainer Str. 70\, Chemnitz (Rühlmann-Bau)
SUMMARY:Innovatives Denken und Kreativität (Career Service TU Chemnitz)
DESCRIPTION:Entwickle neue Denk- und Lösungsansätze für bestimmte Aufgaben\, erprobe ausgewählte Kreativitätstechniken und Problemlösungsmethoden praktisch(z.B. Perspektivwechsel\, Osborn-Checkliste). Mit Anmeldung!\nDr. Peggy Fischer\nCareer Service\, Tel.: 0371 - 531 19930\, career-service@tu-chemnitz.de
ORGANIZER:MAILTO:anke.bartsch@verwaltung.tu-chemnitz.de
UID:15982@www.tu-chemnitz.de
CREATED:20140407T134000Z
DTSTAMP:20210802T190613Z
END:VEVENT
END:VCALENDAR
