BEGIN:VCALENDAR
VERSION:2.0
PRODID:TU Chemnitz
METHOD:PUBLISH
X-WR-CALNAME:Veranstaltungen der TU Chemnitz
X-WR-TIMEZONE:Europe/Berlin
BEGIN:VEVENT
CLASS:PUBLIC
DTSTART;TZID="Europe/Berlin":20140524T090000
DTEND;TZID="Europe/Berlin":20140524T170000
LOCATION:Reichenhainer Str. 70\, Chemnitz (Rühlmann-Bau)
SUMMARY:Applying in English: Job Interview (Career Service TU Chemnitz)
DESCRIPTION:This workshop is designed to acquire job interview-related vocabulary\, to present commonly used questions and answers and to establish more self-confidence by simulated interviews and role plays. Registration required!\nNadine Weigand\nCareer Service\, Tel.: 0371 - 531 19930\, career-service@tu-chemnitz.de
ORGANIZER:MAILTO:anke.bartsch@verwaltung.tu-chemnitz.de
UID:15980@www.tu-chemnitz.de
CREATED:20140407T130500Z
DTSTAMP:20210802T190612Z
END:VEVENT
END:VCALENDAR
