BEGIN:VCALENDAR
VERSION:2.0
PRODID:TU Chemnitz
METHOD:PUBLISH
X-WR-CALNAME:Veranstaltungen der TU Chemnitz
X-WR-TIMEZONE:Europe/Berlin
BEGIN:VEVENT
CLASS:PUBLIC
DTSTART;TZID="Europe/Berlin":20140515T134500
DTEND;TZID="Europe/Berlin":20140515T174500
LOCATION:Pegasus-Center\, Chemnitz
SUMMARY:Bewerben auf Englisch (Career Service TU Chemnitz)
DESCRIPTION:In diesem Workshop lernst du die Grundlagen der schriftlichen Bewerbung auf Englisch kennen und erhältst Tipps zur formalen Struktur\, zum Inhalt und zur sprachlichen Gestaltung der Bewerbungsunterlagen. Mit Anmeldung!\nCornelia Bär\nCareer Service\, Tel.: 0371 - 531 19930\, career-service@tu-chemnitz.de
ORGANIZER:MAILTO:anke.bartsch@verwaltung.tu-chemnitz.de
UID:15978@www.tu-chemnitz.de
CREATED:20140407T113100Z
DTSTAMP:20210802T190608Z
END:VEVENT
END:VCALENDAR
