BEGIN:VCALENDAR
VERSION:2.0
PRODID:TU Chemnitz
METHOD:PUBLISH
X-WR-CALNAME:Veranstaltungen der TU Chemnitz
X-WR-TIMEZONE:Europe/Berlin
BEGIN:VEVENT
CLASS:PUBLIC
DTSTART;VALUE=DATE:20140922
DTEND;TZID="Europe/Berlin":20140924T140000
LOCATION:Chemnitz
SUMMARY:27th Chemnitz FEM Symposium (Fakultät für Mathematik)
DESCRIPTION:The symposium is devoted to all aspects of finite element methods in partial differential equations.Special topics are: Computational Mechanics/Plasticity\, Finite Elements and Uncertainty Quantification\, Eigenvalue Problems\, Exascale Computing\nfem2014@tu-chemnitz.de
ORGANIZER:MAILTO:matthias.pester@mathematik.tu-chemnitz.de
UID:15952@www.tu-chemnitz.de
CREATED:20140403T080900Z
DTSTAMP:20210802T190151Z
END:VEVENT
END:VCALENDAR
