BEGIN:VCALENDAR
VERSION:2.0
PRODID:TU Chemnitz
METHOD:PUBLISH
X-WR-CALNAME:Veranstaltungen der TU Chemnitz
X-WR-TIMEZONE:Europe/Berlin
BEGIN:VEVENT
CLASS:PUBLIC
DTSTART;TZID="Europe/Berlin":20140407T190000
DTEND;TZID="Europe/Berlin":20140407T210000
LOCATION:Weltecho Café
SUMMARY:Europasalon: Lost in Europe? Jugendarbeitslosigkeit in der EU (Weiterdenken - Heinrich Böll Stiftung Sachsen)
DESCRIPTION:Diskussionsveranstaltung über Ursachen und Lösungsmöglichkeiten der Jugendarbeitslosigkeit in der EU\nMarkus Schlimbach (DGB Sachsen)\, Kajo Kramp (JEF Brandenburg)\nEintritt frei\, Bei Wunsch nach Gebärdensprachdolmetscher oder anderen Assistenzen: Bitte Mail an info@weiterdenken.de bis 31.3.
ORGANIZER:MAILTO:anne.winkel@s2010.tu-chemnitz.de
UID:15923@www.tu-chemnitz.de
CREATED:20140324T135300Z
DTSTAMP:20210802T190710Z
END:VEVENT
END:VCALENDAR
