BEGIN:VCALENDAR
VERSION:2.0
PRODID:TU Chemnitz
METHOD:PUBLISH
X-WR-CALNAME:Veranstaltungen der TU Chemnitz
X-WR-TIMEZONE:Europe/Berlin
BEGIN:VEVENT
CLASS:PUBLIC
DTSTART;TZID="Europe/Berlin":20140710T160000
DTEND;TZID="Europe/Berlin":20140710T173000
LOCATION:Str. der Nationen 62\, Chemnitz (Böttcher-Bau)
SUMMARY:GDCh-Vortrag: "Using Molecular Single Source Precursors for the Preparation of Advanced Materials: Strategies\, Limitations and Successes" (Fakultät für Naturwissenschaften\, Institut für Chemie zusammen mit der Gesellschaft der deutschen Chemiker (GDCh))
DESCRIPTION:Department of Chemistry\, Rice University\, Houston TX\, USA\nProf. Dr. Heinrich Lang\, Tel. 21210\, heinrich.lang@chemie.tu-chemnitz.de
ORGANIZER:MAILTO:natalia.rueffer@chemie.tu-chemnitz.de
UID:15920@www.tu-chemnitz.de
CREATED:20140324T094000Z
DTSTAMP:20210802T190406Z
END:VEVENT
END:VCALENDAR
