BEGIN:VCALENDAR
VERSION:2.0
PRODID:TU Chemnitz
METHOD:PUBLISH
X-WR-CALNAME:Veranstaltungen der TU Chemnitz
X-WR-TIMEZONE:Europe/Berlin
BEGIN:VEVENT
CLASS:PUBLIC
DTSTART;TZID="Europe/Berlin":20140422T153000
DTEND;TZID="Europe/Berlin":20140422T170000
LOCATION:Reichenhainer Str. 90\, Chemnitz (Zentr. Hörsaal- und Seminargebäude)
SUMMARY:Die deutschen Werkstätten Hellerau heute (Seniorenkolleg)
DESCRIPTION:Fritz Straub\, Geschäftsführer der Deutschen Werkstätten Hellerau GmbH\ndienstags von 10 bis 14 Uhr\, 0371 531-19075\, -19074
ORGANIZER:MAILTO:chhae@hrz.tu-chemnitz.de
UID:15891@www.tu-chemnitz.de
CREATED:20140315T155900Z
DTSTAMP:20210802T190716Z
END:VEVENT
END:VCALENDAR
