BEGIN:VCALENDAR
VERSION:2.0
PRODID:TU Chemnitz
METHOD:PUBLISH
X-WR-CALNAME:Veranstaltungen der TU Chemnitz
X-WR-TIMEZONE:Europe/Berlin
BEGIN:VEVENT
CLASS:PUBLIC
DTSTART;TZID="Europe/Berlin":20140508T171500
DTEND;TZID="Europe/Berlin":20140508T184500
LOCATION:Reichenhainer Str. 90\, Chemnitz (Zentr. Hörsaal- und Seminargebäude)
SUMMARY:Stipendien und Stiftungen - Informationsveranstaltung und Gesprächsmöglichkeit (Foerdewerke an der TU - Eine Vernetzung auf Privatinitiative)
DESCRIPTION:Die an der TU Chemnitz aktiven Studienförderwerke stellen sich vor:Bei uns erfahrt ihr alles rund ums Stipendium - von den Voraussetzungen über die Bewerbungsverfahren bis zur materiellen und ideellen Förderung.Stellt Fragen! Bekommt Antworten!\njohannes.betz@s2011.tu-chemnitz.de Tel.: 01578 584 72 38
ORGANIZER:MAILTO:johannes.betz@s2011.tu-chemnitz.de
UID:15885@www.tu-chemnitz.de
CREATED:20140312T192000Z
DTSTAMP:20210802T190605Z
END:VEVENT
END:VCALENDAR
