BEGIN:VCALENDAR
VERSION:2.0
PRODID:TU Chemnitz
METHOD:PUBLISH
X-WR-CALNAME:Veranstaltungen der TU Chemnitz
X-WR-TIMEZONE:Europe/Berlin
BEGIN:VEVENT
CLASS:PUBLIC
DTSTART;TZID="Europe/Berlin":20010623T163000
DTEND;TZID="Europe/Berlin":20010623T163000
LOCATION:Johanneskirche Chemnitz-Reichenbrand
SUMMARY:Festliches Konzert mit dem Motettenchor und dem Collegium musicum der TU Chemnitz (TU Chemnitz\, Musisch-kulturelles Zentrum)
DESCRIPTION:Dirigent: Peter Krone\nSchubert: 3. Sinfonie D-Dur D 200; Bach: Messe in h-moll BWV 232: "Missa"\nSolisten: Andrea Ihle-Sopran\, Natalia Krone-Alt\, Matthias Schubotz-Tenor\, Stephan Heinemann-Baß\n\nPeter Krone\, 5 31-14 84 oder 41 83 16
ORGANIZER:MAILTO:iroe@hrz.tu-chemnitz.de
UID:1588@www.tu-chemnitz.de
CREATED:20010314T082400Z
DTSTAMP:20210802T202728Z
END:VEVENT
END:VCALENDAR
