BEGIN:VCALENDAR
VERSION:2.0
PRODID:TU Chemnitz
METHOD:PUBLISH
X-WR-CALNAME:Veranstaltungen der TU Chemnitz
X-WR-TIMEZONE:Europe/Berlin
BEGIN:VEVENT
CLASS:PUBLIC
DTSTART;TZID="Europe/Berlin":20140424T160000
DTEND;TZID="Europe/Berlin":20140424T173000
LOCATION:Str. der Nationen 62\, Chemnitz (Böttcher-Bau)
SUMMARY:GDCh-Vortrag krankheitsbedingt ENTFÄLLT!!!: "Von der Quantenmechanik zur Quantenchemie" (Fakultät für Naturwissenschaften\, Institut für Chemie zusammen mit der Gesellschaft der deutschen Chemiker (GDCh))
DESCRIPTION:PD Dr. Michael Hanrath\, Institut für Theoretische Chemie\, Universität zu Köln\nProf. Dr. Heinrich Lang\, Tel. 21210\, heinrich.lang@chemie.tu-chemnitz.de
ORGANIZER:MAILTO:natalia.rueffer@chemie.tu-chemnitz.de
UID:15873@www.tu-chemnitz.de
CREATED:20140305T131200Z
DTSTAMP:20210802T190706Z
END:VEVENT
END:VCALENDAR
