BEGIN:VCALENDAR
VERSION:2.0
PRODID:TU Chemnitz
METHOD:PUBLISH
X-WR-CALNAME:Veranstaltungen der TU Chemnitz
X-WR-TIMEZONE:Europe/Berlin
BEGIN:VEVENT
CLASS:PUBLIC
DTSTART;TZID="Europe/Berlin":20010710T160000
DTEND;TZID="Europe/Berlin":20010710T160000
LOCATION:Uni-Teil 3: Reichenhainer Str. 70\, Chemnitz (Zentr. Hörsaal- und Seminargebäude)
SUMMARY:Kunststofftechnisches Kolloquium: "Berührungslose zerstörungsfreie Prüfung von faserverstärkten Bauteilen" (Fakultät für Maschinenbau und Verfahrenstechnik\, Institut Allgemeiner Maschinenbau und Kunststofftechnik)
DESCRIPTION:Prof. Dr. Gerd Busse\, Institut für Kunststoffprüfung und Kunststoffkunde\, Stuttgart\nProf. Dr. Günter Mennig\, Tel. 5 31-23 83
ORGANIZER:MAILTO:iroe@hrz.tu-chemnitz.de
UID:1585@www.tu-chemnitz.de
CREATED:20010308T155200Z
DTSTAMP:20210802T202722Z
END:VEVENT
END:VCALENDAR
