BEGIN:VCALENDAR
VERSION:2.0
PRODID:TU Chemnitz
METHOD:PUBLISH
X-WR-CALNAME:Veranstaltungen der TU Chemnitz
X-WR-TIMEZONE:Europe/Berlin
BEGIN:VEVENT
CLASS:PUBLIC
DTSTART;TZID="Europe/Berlin":20140630T103000
DTEND;TZID="Europe/Berlin":20140701T160000
LOCATION:Erfenschlager Str. 73\, Chemnitz
SUMMARY:Konferenz "CrossWorlds: Theory\, Development & Evaluation of Social Technology" (TU Chemnitz\, DFG-Graduiertenkolleg Crossworlds)
DESCRIPTION:Die interdisziplinäre Tagung dient als Plattform für Diskussionen aus Sozialwissenschaften und Informatik zu verschiedenen Aspekten digitaler sozialer Technologien\, etwa soziale Roboter\, emotionale virtuelle Agenten oder Smartphone-Assistenzsysteme.\nAndreas Bischof\, 0371 531-32515\, andreas.bischof@phil.tu-chemnitz.de
ORGANIZER:MAILTO:daniel.pietschmann@phil.tu-chemnitz.de
UID:15792@www.tu-chemnitz.de
CREATED:20140205T084800Z
DTSTAMP:20210802T190500Z
END:VEVENT
END:VCALENDAR
