BEGIN:VCALENDAR
VERSION:2.0
PRODID:TU Chemnitz
METHOD:PUBLISH
X-WR-CALNAME:Veranstaltungen der TU Chemnitz
X-WR-TIMEZONE:Europe/Berlin
BEGIN:VEVENT
CLASS:PUBLIC
DTSTART;TZID="Europe/Berlin":20141013T170000
DTEND;TZID="Europe/Berlin":20141013T190000
LOCATION:Reichenhainer Str. 55\, Chemnitz (Mensa)
SUMMARY:Eltern-Stammtisch Lesereise: "Mütterterror - Angst\, Neid und Aggressionen unter Müttern " (Projekt Familiengerechte Hochschule)
DESCRIPTION:Christina Mundlos\nCathleen Stein\, Familienservice@tu-chemnitz.de
ORGANIZER:MAILTO:jessica.kleinschmidt@s2011.tu-chemnitz.de
UID:15787@www.tu-chemnitz.de
CREATED:20140201T094700Z
DTSTAMP:20210802T190004Z
END:VEVENT
END:VCALENDAR
