BEGIN:VCALENDAR
VERSION:2.0
PRODID:TU Chemnitz
METHOD:PUBLISH
X-WR-CALNAME:Veranstaltungen der TU Chemnitz
X-WR-TIMEZONE:Europe/Berlin
BEGIN:VEVENT
CLASS:PUBLIC
DTSTART;VALUE=DATE:20140923
DTEND;VALUE=DATE:20140924
LOCATION:pentahotel Chemnitz
SUMMARY:6. Fachkolloquium InnoZug (Stiftungsprofessur Technische Textilien - Textile Maschinenelemente)
DESCRIPTION:Anliegen der Veranstaltung ist es\, im branchenübergreifenden Dialog zwischen Maschinenbauern\, Textilherstellern\, Anwendern und Wissenschaftlern aktuelle Forschungsergebnisse vorzustellen\, Problemstellungen zu definieren und Lösungsansätze zu diskutieren.\nwww.innozug.de
ORGANIZER:MAILTO:anke.pfau@mb.tu-chemnitz.de
UID:15779@www.tu-chemnitz.de
CREATED:20140131T081600Z
DTSTAMP:20210802T190145Z
END:VEVENT
END:VCALENDAR
