BEGIN:VCALENDAR
VERSION:2.0
PRODID:TU Chemnitz
METHOD:PUBLISH
X-WR-CALNAME:Veranstaltungen der TU Chemnitz
X-WR-TIMEZONE:Europe/Berlin
BEGIN:VEVENT
CLASS:PUBLIC
DTSTART;TZID="Europe/Berlin":20140218T083000
DTEND;TZID="Europe/Berlin":20140219T163000
LOCATION:Reichenhainer Str. 70\, Chemnitz (Weinhold-Bau)
SUMMARY:Schnupperschule (Fakultät für Elektrotechnik und Informationstechnik)
DESCRIPTION:Mit Spaß u. Spannung in die Zukunft! Für Schüler ab 10. Klasse.Du willst …wissen\, was der Chip im Handy alles kann\, wie Musik ins Radio kommt?..sehen\, wie sauber der reinste Raum\, wo die meiste Spannung ist?Erfindungen gestalten die Zukunft-sei dabei.\nThomas Keutel\, (0371) 531 365 23\, mst@tu-chemnitz.de
ORGANIZER:MAILTO:frank.ebert@etit.tu-chemnitz.de
UID:15766@www.tu-chemnitz.de
CREATED:20140127T104400Z
DTSTAMP:20210802T190854Z
END:VEVENT
END:VCALENDAR
