BEGIN:VCALENDAR
VERSION:2.0
PRODID:TU Chemnitz
METHOD:PUBLISH
X-WR-CALNAME:Veranstaltungen der TU Chemnitz
X-WR-TIMEZONE:Europe/Berlin
BEGIN:VEVENT
CLASS:PUBLIC
DTSTART;TZID="Europe/Berlin":20140206T160000
DTEND;TZID="Europe/Berlin":20140206T173000
LOCATION:Reichenhainer Str. 70\, Chemnitz (Rühlmann-Bau)
SUMMARY:Wissenschaftlicher Vortrag und anschließendes Kolloquium im Habilitationsverfahren von Dr. Sorin-Mihai Grad (Fakultät für Mathematik)
DESCRIPTION:Dr. Sorin-Mihai Grad\nThema: The equilibrium problem and its applications
ORGANIZER:MAILTO:margit.matt@mathematik.tu-chemnitz.de
UID:15763@www.tu-chemnitz.de
CREATED:20140124T135500Z
DTSTAMP:20210802T190854Z
END:VEVENT
END:VCALENDAR
