BEGIN:VCALENDAR
VERSION:2.0
PRODID:TU Chemnitz
METHOD:PUBLISH
X-WR-CALNAME:Veranstaltungen der TU Chemnitz
X-WR-TIMEZONE:Europe/Berlin
BEGIN:VEVENT
CLASS:PUBLIC
DTSTART;TZID="Europe/Berlin":20140129T190000
DTEND;TZID="Europe/Berlin":20140129T203000
LOCATION:Thüringer Weg 11\, Chemnitz
SUMMARY:Unigarten Auftakttreffen 2014 (Studentenrat\, NATUC - Referat Ökologie und Nachhaltigkeit)
DESCRIPTION:Unser erstes Treffen zur Gartensaison 2014! Wir erzählen etwas zur Entstehung des Gartens\, zu dessen gärtnerischen Prinzipien und fangen gemeinsam mit euch an zu planen\, was ihr gerne pflanzen\, bauen und erleben wollt. Neulinge sind herzlich willkommen!\nSebastian Ködel\, NATUC\npermakultur.tuc@gmail.com
ORGANIZER:MAILTO:sebastian.koedel@s2007.tu-chemnitz.de
UID:15758@www.tu-chemnitz.de
CREATED:20140121T162100Z
DTSTAMP:20210802T190933Z
END:VEVENT
END:VCALENDAR
