BEGIN:VCALENDAR
VERSION:2.0
PRODID:TU Chemnitz
METHOD:PUBLISH
X-WR-CALNAME:Veranstaltungen der TU Chemnitz
X-WR-TIMEZONE:Europe/Berlin
BEGIN:VEVENT
CLASS:PUBLIC
DTSTART;TZID="Europe/Berlin":20140122T140000
DTEND;TZID="Europe/Berlin":20140122T160000
LOCATION:Pegasus-Center\, Chemnitz
SUMMARY:Fachspezifische Sprechstunde für Anglisten und Germanisten (Universitätsbibliothek)
DESCRIPTION:Für alle\, die Informationen zu einem Thema suchen\, allein nichts gefunden haben und auf der Suche nach wissenschaftlich relevanten Treffern sind. Kommen Sie einfach vorbei - unsere Fachexpertin hilft Ihnen gern.\nKatja Knop\, UB Chemnitz\nKatja Knop\, Tel. 531-31705\, katja.knop@bibliothek.tu-chemnitz.de
ORGANIZER:MAILTO:katja.knop@bibliothek.tu-chemnitz.de
UID:15757@www.tu-chemnitz.de
CREATED:20140121T121700Z
DTSTAMP:20210802T190933Z
END:VEVENT
END:VCALENDAR
