BEGIN:VCALENDAR
VERSION:2.0
PRODID:TU Chemnitz
METHOD:PUBLISH
X-WR-CALNAME:Veranstaltungen der TU Chemnitz
X-WR-TIMEZONE:Europe/Berlin
BEGIN:VEVENT
CLASS:PUBLIC
DTSTART;TZID="Europe/Berlin":20140121T171500
DTEND;TZID="Europe/Berlin":20140121T184500
LOCATION:Wilhelm-Raabe-Str. 43\, Chemnitz
SUMMARY:Institutskolloquium Psychologie (Fakultät für Human- und Sozialwissenschaften)
DESCRIPTION:Wie gefährlich ist die Welt? Risikowahrnehmung in China und Deutschland.\nProf. Dr. Hede Helfrich\nCarola Manger\, Tel. 38612
ORGANIZER:MAILTO:sabine.dittrich@psychologie.tu-chemnitz.de
UID:15750@www.tu-chemnitz.de
CREATED:20140120T134400Z
DTSTAMP:20210802T190929Z
END:VEVENT
END:VCALENDAR
