BEGIN:VCALENDAR
VERSION:2.0
PRODID:TU Chemnitz
METHOD:PUBLISH
X-WR-CALNAME:Veranstaltungen der TU Chemnitz
X-WR-TIMEZONE:Europe/Berlin
BEGIN:VEVENT
CLASS:PUBLIC
DTSTART;TZID="Europe/Berlin":20140119T103000
DTEND;TZID="Europe/Berlin":20140119T113000
LOCATION:Reichenhainer Str. 90\, Chemnitz (Zentr. Hörsaal- und Seminargebäude)
SUMMARY:"Wirbelstürme\, Hurrikans und steife Brisen - wie hält sich da der Wetterfrosch auf seiner Leiter?" (TU Chemnitz\, Kinder-Uni)
DESCRIPTION:Bei der Kinder-Uni Chemnitz erläutern am 19. Januar 2014 die Physiker Dr. Sascha Gruner und Dr. Gunter Beddies in einer Experimentalvorlesung wie Wirbelstürme und Hurrikans entstehen\nDr. Sascha Gruner und Dr. Gunter Beddies\nBrita Stingl\, 0371 531 13300\, kinderuni@tu-chemnitz.de
ORGANIZER:MAILTO:brita.stingl@verwaltung.tu-chemnitz.de
UID:15738@www.tu-chemnitz.de
CREATED:20140115T104700Z
DTSTAMP:20210802T190928Z
END:VEVENT
END:VCALENDAR
