BEGIN:VCALENDAR
VERSION:2.0
PRODID:TU Chemnitz
METHOD:PUBLISH
X-WR-CALNAME:Veranstaltungen der TU Chemnitz
X-WR-TIMEZONE:Europe/Berlin
BEGIN:VEVENT
CLASS:PUBLIC
DTSTART;TZID="Europe/Berlin":20140115T160000
DTEND;TZID="Europe/Berlin":20140115T193000
LOCATION:Club der Kulturen\, Thüringer Weg 3
SUMMARY:Kleidertausch (Club der Kulturen)
DESCRIPTION:Bei dir hängen noch gute Klamotten im Schrank\, die du nicht mehr trägst? Bring sie mit zu unserem Kleidertausch! Dafür kannst du dir soviele andere Kleider wieder mitnehmen wie du mitgebracht hast. :) Zusätzlich wird es einen kleinen Büchertausch geben.\nkulturen@tu-chemnitz.de
ORGANIZER:MAILTO:antonia.peters@s2009.tu-chemnitz.de
UID:15730@www.tu-chemnitz.de
CREATED:20140113T222600Z
DTSTAMP:20210802T190938Z
END:VEVENT
END:VCALENDAR
