BEGIN:VCALENDAR
VERSION:2.0
PRODID:TU Chemnitz
METHOD:PUBLISH
X-WR-CALNAME:Veranstaltungen der TU Chemnitz
X-WR-TIMEZONE:Europe/Berlin
BEGIN:VEVENT
CLASS:PUBLIC
DTSTART;TZID="Europe/Berlin":20140116T190000
DTEND;TZID="Europe/Berlin":20140116T203000
LOCATION:Reichenhainer Str. 90\, Chemnitz (Zentr. Hörsaal- und Seminargebäude)
SUMMARY:Zwischen Tacitus Theokrits Idyll und den schaurigen Wäldern des Tacitus - Eine antike Umweltgeschichte (Philosophische Fakultät\, Professur Antike und Europa)
DESCRIPTION:Dr. des Ralf Ketscher\nDr. des. Ralf Ketscher\, ralf.ketscher@phil.tu-chemnitz.de
ORGANIZER:MAILTO:sylvia.liebscht@phil.tu-chemnitz.de
UID:15721@www.tu-chemnitz.de
CREATED:20140110T141600Z
DTSTAMP:20210802T190932Z
END:VEVENT
END:VCALENDAR
