BEGIN:VCALENDAR
VERSION:2.0
PRODID:TU Chemnitz
METHOD:PUBLISH
X-WR-CALNAME:Veranstaltungen der TU Chemnitz
X-WR-TIMEZONE:Europe/Berlin
BEGIN:VEVENT
CLASS:PUBLIC
DTSTART;TZID="Europe/Berlin":20010419T100000
DTEND;TZID="Europe/Berlin":20010419T113000
LOCATION:Institut für Mechatronik e.V.\, Reichenhainer Str. 88\, Seminarraum
SUMMARY:Stabilität menschlicher Bewegungen (Institut für Mechatronik e.V.)
DESCRIPTION:Der Vortrag findet im Rahmen des Institutskolloquiums 2001 statt.\n\nDr. Heiko Wagner\, Friedrich-Schiller-Universität Jena\nFrau Hoppe\, Tel.: (0371) 531 46 71\, ifm@ifm.tu-chemnitz.de
ORGANIZER:MAILTO:hfreu@hrz.tu-chemnitz.de
UID:1571@www.tu-chemnitz.de
CREATED:20010308T080300Z
DTSTAMP:20210802T202757Z
END:VEVENT
END:VCALENDAR
