BEGIN:VCALENDAR
VERSION:2.0
PRODID:TU Chemnitz
METHOD:PUBLISH
X-WR-CALNAME:Veranstaltungen der TU Chemnitz
X-WR-TIMEZONE:Europe/Berlin
BEGIN:VEVENT
CLASS:PUBLIC
DTSTART;TZID="Europe/Berlin":20140115T171500
DTEND;TZID="Europe/Berlin":20140115T183000
LOCATION:Reichenhainer Str. 90\, Chemnitz (Zentr. Hörsaal- und Seminargebäude)
SUMMARY:Physikalisches Kolloquium (Fakultät für Naturwissenschaften\, Institut für Physik)
DESCRIPTION:Thema: "Playing Lego with graphene: exfoliation and intercalation strategies to put graphene on surfaces and to produce pillared graphene structures"\nProf. Dr. Petra Rudolf (Universität Groningen)\nProf. Dr. Seyller
ORGANIZER:MAILTO:evelin.straube@physik.tu-chemnitz.de
UID:15700@www.tu-chemnitz.de
CREATED:20140107T082600Z
DTSTAMP:20210802T190936Z
END:VEVENT
END:VCALENDAR
