BEGIN:VCALENDAR
VERSION:2.0
PRODID:TU Chemnitz
METHOD:PUBLISH
X-WR-CALNAME:Veranstaltungen der TU Chemnitz
X-WR-TIMEZONE:Europe/Berlin
BEGIN:VEVENT
CLASS:PUBLIC
DTSTART;TZID="Europe/Berlin":20140315T080000
DTEND;TZID="Europe/Berlin":20140316T180000
LOCATION:Reichenhainer Str. 90\, Chemnitz (Zentr. Hörsaal- und Seminargebäude)
SUMMARY:Chemnitzer Linux-Tage 2014 (TU Chemnitz\, IN Chemnitz e.V.)
DESCRIPTION:Die Chemnitzer Linux-Tage sind eine Veranstaltung rund um das Thema Linux und Open Source für jedermann. Neben zahlreichen Vorträgen und Workshops gibt es eine umfangreiche Präsentation von Projekten und Firmen. Weitere Angebote runden das Programm ab.\nhttp://chemnitzer.linux-tage.de\, 0371/531-25807\, info@linux-tage.de
ORGANIZER:MAILTO:sebastian.arndt@s2012.tu-chemnitz.de
UID:15685@www.tu-chemnitz.de
CREATED:20131228T144900Z
DTSTAMP:20210802T190807Z
END:VEVENT
END:VCALENDAR
