BEGIN:VCALENDAR
VERSION:2.0
PRODID:TU Chemnitz
METHOD:PUBLISH
X-WR-CALNAME:Veranstaltungen der TU Chemnitz
X-WR-TIMEZONE:Europe/Berlin
BEGIN:VEVENT
CLASS:PUBLIC
DTSTART;TZID="Europe/Berlin":20010626T170000
DTEND;TZID="Europe/Berlin":20010626T183000
LOCATION:Uni-Teil 9: Wilhelm-Raabe-Str. 43\, Chemnitz
SUMMARY:Forschungskolloquium: "Utility of a Three-Component Model for Explaining Intergroup Bias Reduction and Intergroup Conflict Resolution" (Philosophische Fakultät\, Institut für Psychologie)
DESCRIPTION:Prof. Dr. Michele A. Wittig\, California State University Northridge/USA\nHerr Renkewitz\, Tel. 0371/531-6354\, E-Mail: frank.renkewitz@phil.tu-chemnitz.de
ORGANIZER:MAILTO:pfl@hrz.tu-chemnitz.de
UID:1567@www.tu-chemnitz.de
CREATED:20010307T120000Z
DTSTAMP:20210802T202726Z
END:VEVENT
END:VCALENDAR
