BEGIN:VCALENDAR
VERSION:2.0
PRODID:TU Chemnitz
METHOD:PUBLISH
X-WR-CALNAME:Veranstaltungen der TU Chemnitz
X-WR-TIMEZONE:Europe/Berlin
BEGIN:VEVENT
CLASS:PUBLIC
DTSTART;TZID="Europe/Berlin":20131218T153000
DTEND;TZID="Europe/Berlin":20131218T163000
LOCATION:Str. der Nationen 62\, Chemnitz (Böttcher-Bau)
SUMMARY:Leben & Arbeiten im Silicon Valley (Fakultät für Informatik\, Fachschaftsrat Informatik)
DESCRIPTION:Alexander Seyfert\, ehemaliger Student der TU Chemnitz\, wird von seinen Erfahrungen im Silicon Valley berichten\, sowie Tipps zur Kontaktaufnahme geben. Vor allem Entwickler haben dort gute Chancen einen Job oder ein Praktikum zu bekommen.\nAlexander Seyfert\nfsrif@tu-chemnitz.de
ORGANIZER:MAILTO:christian.werner@s2004.tu-chemnitz.de
UID:15666@www.tu-chemnitz.de
CREATED:20131211T175400Z
DTSTAMP:20210802T190956Z
END:VEVENT
END:VCALENDAR
