BEGIN:VCALENDAR
VERSION:2.0
PRODID:TU Chemnitz
METHOD:PUBLISH
X-WR-CALNAME:Veranstaltungen der TU Chemnitz
X-WR-TIMEZONE:Europe/Berlin
BEGIN:VEVENT
CLASS:PUBLIC
DTSTART;TZID="Europe/Berlin":20131217T190000
DTEND;TZID="Europe/Berlin":20131217T200000
LOCATION:Petrikirche Chemnitz
SUMMARY:Jedes Jahr auf's Neue - das Krippenspiel der Evangelischen Studentengemeinde Chemnitz (ESG Chemnitz)
DESCRIPTION:Kann sich jemand einen Engel als coolen\, dezent genervten Gottesboten vorstellen? Und die Weisen als schrullige Profs? Die ESG lädt genau dazu ein: einem besinnlichen Gottesdienst mit einem originellen Krippenspiel.\nesra.urmoneit@s2010.tu-chemnitz.de
ORGANIZER:MAILTO:esra.urmoneit@s2010.tu-chemnitz.de
UID:15665@www.tu-chemnitz.de
CREATED:20131211T121600Z
DTSTAMP:20210802T190953Z
END:VEVENT
END:VCALENDAR
