BEGIN:VCALENDAR
VERSION:2.0
PRODID:TU Chemnitz
METHOD:PUBLISH
X-WR-CALNAME:Veranstaltungen der TU Chemnitz
X-WR-TIMEZONE:Europe/Berlin
BEGIN:VEVENT
CLASS:PUBLIC
DTSTART;TZID="Europe/Berlin":20131210T193000
DTEND;TZID="Europe/Berlin":20131210T220000
LOCATION:Reichenhainer Str. 90\, Chemnitz (Zentr. Hörsaal- und Seminargebäude)
SUMMARY:Literarisches Quintett (Philosophische Fakultät\, Fachschaftsrat\, Professur Neuere Deutsche und Vergleichende Literaturwissenschaft\, Universitätsbibliothek)
DESCRIPTION:Es ist wieder einmal soweit!5 Werke2 Profs - 3 Studis\neinfach vorbei kommen! ;)
ORGANIZER:MAILTO:florian.melcher@s2008.tu-chemnitz.de
UID:15660@www.tu-chemnitz.de
CREATED:20131206T210500Z
DTSTAMP:20210802T190958Z
END:VEVENT
END:VCALENDAR
