BEGIN:VCALENDAR
VERSION:2.0
PRODID:TU Chemnitz
METHOD:PUBLISH
X-WR-CALNAME:Veranstaltungen der TU Chemnitz
X-WR-TIMEZONE:Europe/Berlin
BEGIN:VEVENT
CLASS:PUBLIC
DTSTART;TZID="Europe/Berlin":20131218T171500
DTEND;TZID="Europe/Berlin":20131218T183000
LOCATION:Reichenhainer Str. 90\, Chemnitz (Zentr. Hörsaal- und Seminargebäude)
SUMMARY:Physikalisches Kolloquium (Fakultät für Naturwissenschaften\, Institut für Physik)
DESCRIPTION:Thema: "Subsurface und MUSIC-mode Rasterkraftmikroskopie"\nDr. Eike-Christian Spitzner (TU Chemnitz)\nProf. Dr. Magerle
ORGANIZER:MAILTO:evelin.straube@physik.tu-chemnitz.de
UID:15656@www.tu-chemnitz.de
CREATED:20131204T110200Z
DTSTAMP:20210802T190952Z
END:VEVENT
END:VCALENDAR
