BEGIN:VCALENDAR
VERSION:2.0
PRODID:TU Chemnitz
METHOD:PUBLISH
X-WR-CALNAME:Veranstaltungen der TU Chemnitz
X-WR-TIMEZONE:Europe/Berlin
BEGIN:VEVENT
CLASS:PUBLIC
DTSTART;TZID="Europe/Berlin":20010605T170000
DTEND;TZID="Europe/Berlin":20010605T183000
LOCATION:Uni-Teil 9: Wilhelm-Raabe-Str. 43\, Chemnitz
SUMMARY:Forschungskolloquium: "Multilevel Modeling as a Framework for Understanding State-Trait Analyzes of Individual Differences" (Philosophische Fakultät\, Institut für Psychologie)
DESCRIPTION:Prof. Dr. John B. Nezlek\, College of William & Mary Williamsburg/USA\nHerr Renkewitz\, Tel. 0371/531-6354\, E-Mail: frank.renkewitz@phil.tu-chemnitz.de
ORGANIZER:MAILTO:pfl@hrz.tu-chemnitz.de
UID:1564@www.tu-chemnitz.de
CREATED:20010307T114500Z
DTSTAMP:20210802T202733Z
END:VEVENT
END:VCALENDAR
