BEGIN:VCALENDAR
VERSION:2.0
PRODID:TU Chemnitz
METHOD:PUBLISH
X-WR-CALNAME:Veranstaltungen der TU Chemnitz
X-WR-TIMEZONE:Europe/Berlin
BEGIN:VEVENT
CLASS:PUBLIC
DTSTART;TZID="Europe/Berlin":20131203T171500
DTEND;TZID="Europe/Berlin":20131203T184500
LOCATION:Wilhelm-Raabe-Str. 43\, Chemnitz
SUMMARY:Institutskolloquium Psychologie (Fakultät für Human- und Sozialwissenschaften)
DESCRIPTION:"Facilitatory effects of speaker gaze on language comprehension"\nDr. Helene Kreysa\, Universität Jena\nSabine Dittrich\, 531 36313
ORGANIZER:MAILTO:sabine.dittrich@psychologie.tu-chemnitz.de
UID:15636@www.tu-chemnitz.de
CREATED:20131128T131500Z
DTSTAMP:20210802T190958Z
END:VEVENT
END:VCALENDAR
