BEGIN:VCALENDAR
VERSION:2.0
PRODID:TU Chemnitz
METHOD:PUBLISH
X-WR-CALNAME:Veranstaltungen der TU Chemnitz
X-WR-TIMEZONE:Europe/Berlin
BEGIN:VEVENT
CLASS:PUBLIC
DTSTART;TZID="Europe/Berlin":20140415T090000
DTEND;TZID="Europe/Berlin":20140415T160000
LOCATION:Campus Reichenhainer Straße
SUMMARY:Initiativentag (TU Chemnitz)
DESCRIPTION:Die studentischen Initiativen stellen sich vor. Für jedes Interesse ist etwas geboten. Gleichzeitiger Auftakt der Initiativenwochen mit Finale zum Campus- und Sportfest. Mitmachen erwünscht!\nUniversitätskommunikation\, kommunikation@tu-chemnitz.de
ORGANIZER:MAILTO:kommunikation@tu-chemnitz.de
UID:15630@www.tu-chemnitz.de
CREATED:20131126T101000Z
DTSTAMP:20210802T190712Z
END:VEVENT
END:VCALENDAR
