BEGIN:VCALENDAR
VERSION:2.0
PRODID:TU Chemnitz
METHOD:PUBLISH
X-WR-CALNAME:Veranstaltungen der TU Chemnitz
X-WR-TIMEZONE:Europe/Berlin
BEGIN:VEVENT
CLASS:PUBLIC
DTSTART;TZID="Europe/Berlin":20131130T090000
DTEND;TZID="Europe/Berlin":20131130T163000
LOCATION:Reichenhainer Str. 90\, Chemnitz (Zentr. Hörsaal- und Seminargebäude)
SUMMARY:China – Aufstieg zur Weltmacht? (Philosophische Fakultät\, Professur Internationale Politik\, SLpB und weitere)
DESCRIPTION:Das China-Seminar mit externen Spezialisten ist eine große Chance\, sich über den Staat zu informieren\, der nun weltweit wirtschaftlich\, politisch und sicherheitspolitisch eine große Rolle bis in unser aller Leben hinein spielt. Eine Anmeldung ist nötig.\nAnja Braune\, 0371 531-27730\, anja.braune@phil.tu-chemnitz.de
ORGANIZER:MAILTO:robert.steudtner@phil.tu-chemnitz.de
UID:15623@www.tu-chemnitz.de
CREATED:20131124T222500Z
DTSTAMP:20210802T191043Z
END:VEVENT
END:VCALENDAR
